BEGIN:VCALENDAR
VERSION:2.0
PRODID:-//BRISA - ECPv6.3.3.1//NONSGML v1.0//EN
CALSCALE:GREGORIAN
METHOD:PUBLISH
X-WR-CALNAME:BRISA
X-ORIGINAL-URL:https://www.brisasailing.com
X-WR-CALDESC:Events for BRISA
REFRESH-INTERVAL;VALUE=DURATION:PT1H
X-Robots-Tag:noindex
X-PUBLISHED-TTL:PT1H
BEGIN:VTIMEZONE
TZID:UTC
BEGIN:STANDARD
TZOFFSETFROM:+0000
TZOFFSETTO:+0000
TZNAME:UTC
DTSTART:20230101T000000
END:STANDARD
TZID:America/Puerto_Rico
BEGIN:STANDARD
TZOFFSETFROM:-0400
TZOFFSETTO:-0400
TZNAME:AST
DTSTART:20230101T000000
END:STANDARD
END:VTIMEZONE
BEGIN:VEVENT
DTSTART;TZID=UTC:20240413T080000
DTEND;TZID=UTC:20240413T120000
DTSTAMP:20260423T103622
CREATED:20240114T145343Z
LAST-MODIFIED:20240114T145423Z
UID:1136-1712995200-1713009600@www.brisasailing.com
SUMMARY:Sailing Clinic con Prática
DESCRIPTION:Save the Date \n 
URL:https://www.brisasailing.com/event/sailing-clinic-con-pratica/
LOCATION:Marina Puerto del Rey\, Fajardo\, 4900 State Rd 3 Km. 51.4\, Fajardo\, Puerto Rico\, 00738\, Puerto Rico
CATEGORIES:BRISA Este / East,Clinicas
ORGANIZER;CN="Com%2C Enid Marie Reyes":MAILTO:comodorobrisaestepr@gmail.com
END:VEVENT
BEGIN:VEVENT
DTSTART;TZID=UTC:20240120T100000
DTEND;TZID=UTC:20240120T120000
DTSTAMP:20260423T103622
CREATED:20240112T230047Z
LAST-MODIFIED:20240112T230047Z
UID:1132-1705744800-1705752000@www.brisasailing.com
SUMMARY:Safety Clinic
DESCRIPTION:
URL:https://www.brisasailing.com/event/safety-clinic/
LOCATION:Marina Puerto del Rey\, Fajardo\, 4900 State Rd 3 Km. 51.4\, Fajardo\, Puerto Rico\, 00738\, Puerto Rico
CATEGORIES:BRISA Este / East,Clinicas
ORGANIZER;CN="Com%2C Enid Marie Reyes":MAILTO:comodorobrisaestepr@gmail.com
END:VEVENT
BEGIN:VEVENT
DTSTART;VALUE=DATE:20230902
DTEND;VALUE=DATE:20230905
DTSTAMP:20260423T103622
CREATED:20230121T094140Z
LAST-MODIFIED:20230812T152150Z
UID:396-1693612800-1693871999@www.brisasailing.com
SUMMARY:Fin de Semana en Salinas
DESCRIPTION:Crackers & Bubbles \nFin de Semana de Diversión en Villa Somar\, Salinas  \nEste evento es para miembros activos de BRISA.  (Active BRISA Members Only) \n¿Quieres activar tu membresía a BRISA?  Complete el RSVP en esta página y te contactaremos por correo electrónico. (Want to join us? Fill out the RSVP below and we will contact you.) \n‘Fun Weekends‘\, son fines de semana de diversión\, como regatitas\, navegadas a los caños\, prácticas\, BBQ’s y para compartir con la comunidad de BRISA.  (Fun Weekend are community events\, shared patio\, practices and day sails). \n\nPráctica:  TBD\nAntes de llegar aprendan las partes de un velero\nAntes de llegar practiquen: Cleat Hitch\, Bowline\, Square Knot y Figure Eight (stopper) Knot\nTraigan sus bebidas y aperitivos\n\nMas detalles del evento tambien se comparten en el grupo WhatApp ‘Brisa a Toda Vela!’  Únase a nuestra comunidad a divertirse en familia. \nListado de Hospedajes: \nLes sugiero a los que se queden a dormir deben hacer reservaciones bien pronto: \n\n\n\nLa Marina de Salinas\,\nFull Moon Hotel\, Salinas\nAirbnbs en Salinas\nTiny Trailers Carey del Sur\nSeaDaroma South\, Oceanfront vacation rentals in Salinas\, PR (787)557-4861\nTambién hay espacio para camping
URL:https://www.brisasailing.com/event/fin-de-semana-en-salinas-7/
LOCATION:Villa Somar\, Salinas PR\, Salinas\, 00751\, Puerto Rico
CATEGORIES:Actividad Social,BRISA Sur,Clinicas,Rally
ORGANIZER;CN="Com. Robbie Ramos":MAILTO:RamosRobbie@yahoo.com
END:VEVENT
BEGIN:VEVENT
DTSTART;VALUE=DATE:20230708
DTEND;VALUE=DATE:20230710
DTSTAMP:20260423T103622
CREATED:20230121T094031Z
LAST-MODIFIED:20230711T140248Z
UID:394-1688774400-1688947199@www.brisasailing.com
SUMMARY:Fin de Semana en Salinas
DESCRIPTION:Crackers & Bubbles \nFin de Semana de Diversión en Villa Somar\, Salinas  \nEste evento es para miembros activos de BRISA.  (Active BRISA Members Only) \n¿Quieres activar tu membresía a BRISA?  Complete el RSVP en esta página y te contactaremos por correo electrónico. (Want to join us? Fill out the RSVP below and we will contact you.) \n‘Fun Weekends‘\, son fines de semana de diversión\, como regatitas\, navegadas a los caños\, prácticas\, BBQ’s y para compartir con la comunidad de BRISA.  (Fun Weekend are community events\, shared patio\, practices and day sails). \n\nPráctica: Domingo 07-09-23   9am   Sail Trimming – Fraito\nAntes de llegar aprendan las partes de un velero\nAntes de llegar practiquen: Cleat Hitch\, Bowline\, Square Knot y Figure Eight (stopper) Knot\nTraigan sus bebidas y aperitivos\n\nMas detalles del evento tambien se comparten en el grupo WhatApp ‘Brisa a Toda Vela!’  Únase a nuestra comunidad a divertirse en familia. \nListado de Hospedajes: \nLes sugiero a los que se queden a dormir deben hacer reservaciones bien pronto: \n\n\n\nLa Marina de Salinas\,\nFull Moon Hotel\, Salinas\nAirbnbs en Salinas\nTiny Trailers Carey del Sur\nSeaDaroma South\, Oceanfront vacation rentals in Salinas\, PR (787)557-4861\nTambién hay espacio para camping
URL:https://www.brisasailing.com/event/fin-de-semana-en-salinas-6/
LOCATION:Villa Somar\, Salinas PR\, Salinas\, 00751\, Puerto Rico
CATEGORIES:Actividad Social,BRISA Sur,Clinicas,Rally
ORGANIZER;CN="Com. Robbie Ramos":MAILTO:RamosRobbie@yahoo.com
END:VEVENT
BEGIN:VEVENT
DTSTART;TZID=America/Puerto_Rico:20230318T100000
DTEND;TZID=America/Puerto_Rico:20230318T140000
DTSTAMP:20260423T103622
CREATED:20221223T175153Z
LAST-MODIFIED:20230303T000702Z
UID:151-1679133600-1679148000@www.brisasailing.com
SUMMARY:Clinica: Reglas del Camino
DESCRIPTION:
URL:https://www.brisasailing.com/event/tbd-clinica/
LOCATION:Fajardo\, PR\, Fajardo\, PR
CATEGORIES:BRISA Este / East,Clinicas
ORGANIZER;CN="Com%2C Enid Marie Reyes":MAILTO:comodorobrisaestepr@gmail.com
END:VEVENT
BEGIN:VEVENT
DTSTART;TZID=America/Puerto_Rico:20230128T000000
DTEND;TZID=America/Puerto_Rico:20230128T000000
DTSTAMP:20260423T103622
CREATED:20221223T160141Z
LAST-MODIFIED:20230207T100925Z
UID:129-1674864000-1674864000@www.brisasailing.com
SUMMARY:Clínica de Cartas de Navegación
DESCRIPTION:Regístrate: https://forms.gle/DEwThtV9Kjd7hQXT7  \nPresencial
URL:https://www.brisasailing.com/event/navegation-charts/
LOCATION:Evento Virtual
CATEGORIES:BRISA Este / East,Clinicas
ORGANIZER;CN="Com%2C Enid Marie Reyes":MAILTO:comodorobrisaestepr@gmail.com
END:VEVENT
END:VCALENDAR